BEGIN:VCALENDAR
VERSION:2.0
PRODID:-//The Thinker Lab - ECPv6.15.12.2//NONSGML v1.0//EN
CALSCALE:GREGORIAN
METHOD:PUBLISH
X-WR-CALNAME:The Thinker Lab
X-ORIGINAL-URL:https://thethinkerlab.it
X-WR-CALDESC:Eventi per The Thinker Lab
REFRESH-INTERVAL;VALUE=DURATION:PT1H
X-Robots-Tag:noindex
X-PUBLISHED-TTL:PT1H
BEGIN:VTIMEZONE
TZID:Europe/Paris
BEGIN:DAYLIGHT
TZOFFSETFROM:+0100
TZOFFSETTO:+0200
TZNAME:CEST
DTSTART:20240331T010000
END:DAYLIGHT
BEGIN:STANDARD
TZOFFSETFROM:+0200
TZOFFSETTO:+0100
TZNAME:CET
DTSTART:20241027T010000
END:STANDARD
BEGIN:DAYLIGHT
TZOFFSETFROM:+0100
TZOFFSETTO:+0200
TZNAME:CEST
DTSTART:20250330T010000
END:DAYLIGHT
BEGIN:STANDARD
TZOFFSETFROM:+0200
TZOFFSETTO:+0100
TZNAME:CET
DTSTART:20251026T010000
END:STANDARD
BEGIN:DAYLIGHT
TZOFFSETFROM:+0100
TZOFFSETTO:+0200
TZNAME:CEST
DTSTART:20260329T010000
END:DAYLIGHT
BEGIN:STANDARD
TZOFFSETFROM:+0200
TZOFFSETTO:+0100
TZNAME:CET
DTSTART:20261025T010000
END:STANDARD
BEGIN:DAYLIGHT
TZOFFSETFROM:+0100
TZOFFSETTO:+0200
TZNAME:CEST
DTSTART:20270328T010000
END:DAYLIGHT
BEGIN:STANDARD
TZOFFSETFROM:+0200
TZOFFSETTO:+0100
TZNAME:CET
DTSTART:20271031T010000
END:STANDARD
END:VTIMEZONE
BEGIN:VEVENT
DTSTART;TZID=Europe/Paris:20260228T163000
DTEND;TZID=Europe/Paris:20260228T180000
DTSTAMP:20260423T131641
CREATED:20260130T232516Z
LAST-MODIFIED:20260130T232520Z
UID:10000190-1772296200-1772301600@thethinkerlab.it
SUMMARY:BioLAB: alla scoperta della rana!
DESCRIPTION:Alla Scoperta della Rana!\n\n\n\nSei appassionato di animali? \n\n\n\nVuoi scoprire tutto sulle rane diventando un vero esperto? \n\n\n\nPreparati a indossare il camice da biologo e mettere le mani nello slime solo così scoprirai da quali organi è composta una rana\, come respirano gli anfibi\, quali sono le loro caratteristiche. \n\n\n\nUn evento perfetto per aspiranti esploratori e amanti della natura! ✨ \n\n\n\nNon perdere questa esperienza interattiva unica! \n\n\n\n\nCONTROLLA DISPONIBILITA’ E PRENOTA\n\n\n\n\n\n\n\n\n\n\n\n\n  \n\n\n\nCosto: 17€\, da versare in loco. \n\n\n\nQuando: Sabato 28 febbraio\, dalle 16.30 alle 18.00 \n\n\n\nDove: in via cairoli 5\, a Varese c/o il laboratorio creativo del Thinker Lab (parcheggio consigliato Lidl di via carcano\, gratuiti i primi 120 min). \n\n\n\nEtà: 8 – 13 anni \n\n\n\nPrenota il tuo posto! I posti sono limitati\, è necessario prenotare tramite il form dedicato. \n\n\n\nTutti i nostri laboratori sono condotti da professionisti specializzati nei rispettivi ambiti\, pronti a trasformare la scienza in un’esperienza coinvolgente e interattiva. Grazie al loro approccio pratico e dinamico\, bambini e ragazzi potranno esplorare il mondo scientifico in modo divertente e stimolante! \n\n\n\nIl Laboratorio sarà tenuto dall’esperta Francesca
URL:https://thethinkerlab.it/evento/biolab-alla-scoperta-della-rana/
LOCATION:The Thinker Lab\, Via Cairoli 5\, Varese\, Varese\, 21100\, Italy
CATEGORIES:7+ anni,Approfondimento,Biologia,Edutainment,Laboratorio Scientifico,Science (Scienza),STEAM
ATTACH;FMTTYPE=image/jpeg:https://thethinkerlab.it/wp-content/uploads/2026/01/CopertinaEventiTTL_rana.jpg
END:VEVENT
BEGIN:VEVENT
DTSTART;TZID=Europe/Paris:20251001T150000
DTEND;TZID=Europe/Paris:20251001T163000
DTSTAMP:20260423T131641
CREATED:20250512T211041Z
LAST-MODIFIED:20250910T205555Z
UID:10000034-1759330800-1759336200@thethinkerlab.it
SUMMARY:Alla scoperta della salamandra!
DESCRIPTION:Alla Scoperta della Salamandra!\n\n\n\nSei appassionato di animali? \n\n\n\nVuoi scoprire tutto sulle salamandre e sugli anfibi\, diventando un vero esperto? \n\n\n\nPreparati a indossare il camice da biologo e mettere le mani nello slime solo così scoprirai da quali organi è composta una salamandra\, come respirano gli anfibi\, come fanno a nuotare e quali sono le loro caratteristiche. \n\n\n\nUn evento perfetto per aspiranti esploratori e amanti della natura! ✨ \n\n\n\nNon perdere questa esperienza interattiva unica! \n\n\n\n\n\n\n\n  \n\n\n\n\n\nCosto: 15€\, da versare in loco (sconto del 15% per fratelli/sorelle). \n\n\n\nQuando: Sabato 1 ottobre\, dalle 15.00 alle 16.30 \n\n\n\nDove: in via cairoli 5\, a Varese c/o il laboratorio creativo del Thinker Lab (parcheggio consigliato Lidl di via carcano\, gratuiti i primi 120 min). \n\n\n\nEtà: 8 – 13 anni \n\n\n\nPrenota il tuo posto! I posti sono limitati\, è necessario prenotare tramite il form dedicato. \n\n\n\nTutti i nostri laboratori sono condotti da professionisti specializzati nei rispettivi ambiti\, pronti a trasformare la scienza in un’esperienza coinvolgente e interattiva. Grazie al loro approccio pratico e dinamico\, bambini e ragazzi potranno esplorare il mondo scientifico in modo divertente e stimolante! \n\n\n\nIl Laboratorio sarà tenuto dal biologo Samuele Battipaglia
URL:https://thethinkerlab.it/evento/alla-scoperta-della-salamandra-2/
LOCATION:The Thinker Lab\, Via Cairoli 5\, Varese\, Varese\, 21100\, Italy
CATEGORIES:8 - 13 anni,Approfondimento,Biologia,Edutainment,Laboratorio Scientifico,Science (Scienza),STEAM
ATTACH;FMTTYPE=image/jpeg:https://thethinkerlab.it/wp-content/uploads/2025/05/BioExplore4_salamandra.jpg
END:VEVENT
BEGIN:VEVENT
DTSTART;TZID=Europe/Paris:20250920T170000
DTEND;TZID=Europe/Paris:20250920T183000
DTSTAMP:20260423T131641
CREATED:20250704T202424Z
LAST-MODIFIED:20250919T170115Z
UID:10000074-1758387600-1758393000@thethinkerlab.it
SUMMARY:Alla scoperta del piranha!
DESCRIPTION:Alla Scoperta della Piranha!\n\n\n\nSei appassionato di animali? \n\n\n\nVuoi scoprire tutto sui piranha e sui pesci diventando un vero esperto? \n\n\n\nPreparati a indossare il camice da biologo e mettere le mani nello slime solo così scoprirai da quali organi è composto un piranha\, come respirano i pesci\, come fanno a nuotare e quali sono le loro caratteristiche. \n\n\n\nUn evento perfetto per aspiranti esploratori e amanti della natura! ✨ \n\n\n\nNon perdere questa esperienza interattiva unica! \n\n\n\n\n\n\n\n  \n\n\n\n\n\nCosto: 15€\, da versare in loco (sconto del 15% per fratelli/sorelle). \n\n\n\nQuando: Sabato 20 settembre\, dalle 15.00 alle 16.30 \n\n\n\nDove: in via cairoli 5\, a Varese c/o il laboratorio creativo del Thinker Lab (parcheggio consigliato Lidl di via carcano\, gratuiti i primi 120 min). \n\n\n\nEtà: 8 – 13 anni \n\n\n\nPrenota il tuo posto! I posti sono limitati\, è necessario prenotare tramite il form dedicato. \n\n\n\nTutti i nostri laboratori sono condotti da professionisti specializzati nei rispettivi ambiti\, pronti a trasformare la scienza in un’esperienza coinvolgente e interattiva. Grazie al loro approccio pratico e dinamico\, bambini e ragazzi potranno esplorare il mondo scientifico in modo divertente e stimolante! \n\n\n\nIl Laboratorio sarà tenuto dal biologo Samuele Battipaglia
URL:https://thethinkerlab.it/evento/alla-scoperta-del-piranha-2/
LOCATION:The Thinker Lab\, Via Cairoli 5\, Varese\, Varese\, 21100\, Italy
CATEGORIES:8 - 13 anni,Approfondimento,Biologia,Edutainment,Laboratorio Scientifico,Science (Scienza),STEAM
ATTACH;FMTTYPE=image/jpeg:https://thethinkerlab.it/wp-content/uploads/2025/04/BioExplore3_piranha.jpg
END:VEVENT
BEGIN:VEVENT
DTSTART;TZID=Europe/Paris:20250705T150000
DTEND;TZID=Europe/Paris:20250705T163000
DTSTAMP:20260423T131641
CREATED:20250512T193949Z
LAST-MODIFIED:20250702T184150Z
UID:10000030-1751727600-1751733000@thethinkerlab.it
SUMMARY:Alla scoperta della rana!
DESCRIPTION:Alla Scoperta della Rana!\n\n\n\nSei appassionato di animali? \n\n\n\nVuoi scoprire tutto sulle rane diventando un vero esperto? \n\n\n\nPreparati a indossare il camice da biologo e mettere le mani nello slime solo così scoprirai da quali organi è composta una rana\, come respirano gli anfibi\, quali sono le loro caratteristiche. \n\n\n\nUn evento perfetto per aspiranti esploratori e amanti della natura! ✨ \n\n\n\nNon perdere questa esperienza interattiva unica! \n\n\n\n\n\n\n\n  \n\n\n\n\n\nCosto: 18€\, da versare in loco (sconto del 15% per fratelli/sorelle). \n\n\n\nQuando: Sabato 5 luglio\, dalle 15.00 alle 16.30 \n\n\n\nDove: in via cairoli 5\, a Varese c/o il laboratorio creativo del Thinker Lab (parcheggio consigliato Lidl di via carcano\, gratuiti i primi 120 min). \n\n\n\nEtà: 8 – 13 anni \n\n\n\nPrenota il tuo posto! I posti sono limitati\, è necessario prenotare tramite il form dedicato. \n\n\n\nTutti i nostri laboratori sono condotti da professionisti specializzati nei rispettivi ambiti\, pronti a trasformare la scienza in un’esperienza coinvolgente e interattiva. Grazie al loro approccio pratico e dinamico\, bambini e ragazzi potranno esplorare il mondo scientifico in modo divertente e stimolante! \n\n\n\nIl Laboratorio sarà tenuto dal biologo Samuele Battipaglia
URL:https://thethinkerlab.it/evento/alla-scoperta-della-rana-3/
LOCATION:The Thinker Lab\, Via Cairoli 5\, Varese\, Varese\, 21100\, Italy
CATEGORIES:7+ anni,Approfondimento,Biologia,Edutainment,Laboratorio Scientifico,Science (Scienza),STEAM
ATTACH;FMTTYPE=image/jpeg:https://thethinkerlab.it/wp-content/uploads/2025/03/BioExplore3.jpg
END:VEVENT
BEGIN:VEVENT
DTSTART;TZID=Europe/Paris:20250628T150000
DTEND;TZID=Europe/Paris:20250628T163000
DTSTAMP:20260423T131641
CREATED:20250512T194346Z
LAST-MODIFIED:20250529T212239Z
UID:10000031-1751122800-1751128200@thethinkerlab.it
SUMMARY:Alla scoperta del piranha!
DESCRIPTION:Alla Scoperta della Piranha!\n\n\n\nSei appassionato di animali? \n\n\n\nVuoi scoprire tutto sui piranha e sui pesci diventando un vero esperto? \n\n\n\nPreparati a indossare il camice da biologo e mettere le mani nello slime solo così scoprirai da quali organi è composto un piranha\, come respirano i pesci\, come fanno a nuotare e quali sono le loro caratteristiche. \n\n\n\nUn evento perfetto per aspiranti esploratori e amanti della natura! ✨ \n\n\n\nNon perdere questa esperienza interattiva unica! \n\n\n\n\n\n\n\n  \n\n\n\n\n\nCosto: 18€\, da versare in loco (sconto del 15% per fratelli/sorelle). \n\n\n\nQuando: Sabato 28 giugno\, dalle 15.00 alle 16.30 \n\n\n\nDove: in via cairoli 5\, a Varese c/o il laboratorio creativo del Thinker Lab (parcheggio consigliato Lidl di via carcano\, gratuiti i primi 120 min). \n\n\n\nEtà: 8 – 13 anni \n\n\n\nPrenota il tuo posto! I posti sono limitati\, è necessario prenotare tramite il form dedicato. \n\n\n\nTutti i nostri laboratori sono condotti da professionisti specializzati nei rispettivi ambiti\, pronti a trasformare la scienza in un’esperienza coinvolgente e interattiva. Grazie al loro approccio pratico e dinamico\, bambini e ragazzi potranno esplorare il mondo scientifico in modo divertente e stimolante! \n\n\n\nIl Laboratorio sarà tenuto dal biologo Samuele Battipaglia
URL:https://thethinkerlab.it/evento/alla-scoperta-del-piranha/
LOCATION:The Thinker Lab\, Via Cairoli 5\, Varese\, Varese\, 21100\, Italy
CATEGORIES:8 - 13 anni,Approfondimento,Biologia,Edutainment,Laboratorio Scientifico,Science (Scienza),STEAM
ATTACH;FMTTYPE=image/jpeg:https://thethinkerlab.it/wp-content/uploads/2025/04/BioExplore3_piranha.jpg
END:VEVENT
BEGIN:VEVENT
DTSTART;TZID=Europe/Paris:20250625T200000
DTEND;TZID=Europe/Paris:20250625T213000
DTSTAMP:20260423T131641
CREATED:20250512T204516Z
LAST-MODIFIED:20250609T135215Z
UID:10000033-1750881600-1750887000@thethinkerlab.it
SUMMARY:Alla scoperta della salamandra!
DESCRIPTION:Alla Scoperta della Salamandra!\n\n\n\nSei appassionato di animali? \n\n\n\nVuoi scoprire tutto sulle salamandre e sugli anfibi\, diventando un vero esperto? \n\n\n\nPreparati a indossare il camice da biologo e mettere le mani nello slime solo così scoprirai da quali organi è composta una salamandra\, come respirano gli anfibi\, come fanno a nuotare e quali sono le loro caratteristiche. \n\n\n\nUn evento perfetto per aspiranti esploratori e amanti della natura! ✨ \n\n\n\nNon perdere questa esperienza interattiva unica! \n\n\n\n\n\n\n\n\n\n  \n\n\n\n\n\nCosto: 18€\, da versare in loco (sconto del 15% per fratelli/sorelle). \n\n\n\nQuando: Mercoledì 25 giugno\, dalle 20.00 alle 21.30 \n\n\n\nDove: in via cairoli 5\, a Varese c/o il laboratorio creativo del Thinker Lab (parcheggio consigliato Lidl di via carcano\, gratuiti i primi 120 min). \n\n\n\nEtà: 8 – 13 anni \n\n\n\nPrenota il tuo posto! I posti sono limitati\, è necessario prenotare tramite il form dedicato. \n\n\n\nTutti i nostri laboratori sono condotti da professionisti specializzati nei rispettivi ambiti\, pronti a trasformare la scienza in un’esperienza coinvolgente e interattiva. Grazie al loro approccio pratico e dinamico\, bambini e ragazzi potranno esplorare il mondo scientifico in modo divertente e stimolante! \n\n\n\nIl Laboratorio sarà tenuto dal biologo Samuele Battipaglia
URL:https://thethinkerlab.it/evento/alla-scoperta-della-salamandra/
LOCATION:The Thinker Lab\, Via Cairoli 5\, Varese\, Varese\, 21100\, Italy
CATEGORIES:8 - 13 anni,Approfondimento,Biologia,Edutainment,Laboratorio Scientifico,Science (Scienza),STEAM
ATTACH;FMTTYPE=image/jpeg:https://thethinkerlab.it/wp-content/uploads/2025/05/BioExplore4_salamandra.jpg
END:VEVENT
BEGIN:VEVENT
DTSTART;TZID=Europe/Paris:20250531T150000
DTEND;TZID=Europe/Paris:20250531T163000
DTSTAMP:20260423T131641
CREATED:20250401T202221Z
LAST-MODIFIED:20250529T211952Z
UID:10000010-1748703600-1748709000@thethinkerlab.it
SUMMARY:Alla scoperta del piranha!
DESCRIPTION:Alla Scoperta della Piranha!\n\n\n\nSei appassionato di animali? \n\n\n\nVuoi scoprire tutto sui piranha e sui pesci diventando un vero esperto? \n\n\n\nPreparati a indossare il camice da biologo e mettere le mani nello slime solo così scoprirai da quali organi è composto un piranha\, come respirano i pesci\, come fanno a nuotare e quali sono le loro caratteristiche. \n\n\n\nUn evento perfetto per aspiranti esploratori e amanti della natura! ✨ \n\n\n\nNon perdere questa esperienza interattiva unica! \n\n\n\n\n\n\n\n  \n\n\n\n\n\nCosto: 18€\, da versare in loco (sconto del 15% per fratelli/sorelle). \n\n\n\nQuando: Sabato 31 maggio\, dalle 15.00 alle 16.30 \n\n\n\nDove: in via cairoli 5\, a Varese c/o il laboratorio creativo del Thinker Lab (parcheggio consigliato Lidl di via carcano\, gratuiti i primi 120 min). \n\n\n\nEtà: 8 – 13 anni \n\n\n\nPrenota il tuo posto! I posti sono limitati\, è necessario prenotare tramite il form dedicato. \n\n\n\nTutti i nostri laboratori sono condotti da professionisti specializzati nei rispettivi ambiti\, pronti a trasformare la scienza in un’esperienza coinvolgente e interattiva. Grazie al loro approccio pratico e dinamico\, bambini e ragazzi potranno esplorare il mondo scientifico in modo divertente e stimolante! \n\n\n\nIl Laboratorio sarà tenuto dal biologo Samuele Battipaglia
URL:https://thethinkerlab.it/evento/alla-scoperta-della-piranha/
LOCATION:The Thinker Lab\, Via Cairoli 5\, Varese\, Varese\, 21100\, Italy
CATEGORIES:8 - 13 anni,Approfondimento,Biologia,Edutainment,Laboratorio Scientifico,Science (Scienza),STEAM
ATTACH;FMTTYPE=image/jpeg:https://thethinkerlab.it/wp-content/uploads/2025/04/BioExplore3_piranha.jpg
END:VEVENT
BEGIN:VEVENT
DTSTART;TZID=Europe/Paris:20250503T150000
DTEND;TZID=Europe/Paris:20250503T163000
DTSTAMP:20260423T131641
CREATED:20250401T202024Z
LAST-MODIFIED:20250502T150751Z
UID:10000009-1746284400-1746289800@thethinkerlab.it
SUMMARY:Alla scoperta della rana!
DESCRIPTION:Alla Scoperta della Rana!\n\n\n\nSei appassionato di animali? \n\n\n\nVuoi scoprire tutto sulle rane diventando un vero esperto? \n\n\n\nPreparati a indossare il camice da biologo e mettere le mani nello slime solo così scoprirai da quali organi è composta una rana\, come respirano gli anfibi\, quali sono le loro caratteristiche. \n\n\n\nUn evento perfetto per aspiranti esploratori e amanti della natura! ✨ \n\n\n\nNon perdere questa esperienza interattiva unica! \n\n\n\n\n\n\n\n  \n\n\n\nQuando: Sabato 3 maggio\, dalle 15.00 alle 16.30 \n\n\n\nDove: in via cairoli 5\, a Varese c/o il laboratorio creativo del Thinker Lab (parcheggio consigliato Lidl di via carcano\, gratuiti i primi 120 min). \n\n\n\nCosto: 20€\, da versare in loco (sconto del 15% per frtelli/sorelle). \n\n\n\nEtà: 8 – 13 anni \n\n\n\nPrenota il tuo posto! I posti sono limitati\, è necessario prenotare tramite il form dedicato. \n\n\n\n\n\nTutti i nostri laboratori sono condotti da professionisti specializzati nei rispettivi ambiti\, pronti a trasformare la scienza in un’esperienza coinvolgente e interattiva. Grazie al loro approccio pratico e dinamico\, bambini e ragazzi potranno esplorare il mondo scientifico in modo divertente e stimolante! \n\n\n\nIl Laboratorio sarà tenuto dal biologo Samuele Battipaglia
URL:https://thethinkerlab.it/evento/alla-scoperta-della-rana-2/
LOCATION:The Thinker Lab\, Via Cairoli 5\, Varese\, Varese\, 21100\, Italy
CATEGORIES:7+ anni,Approfondimento,Biologia,Edutainment,Laboratorio Scientifico,Science (Scienza),STEAM
ATTACH;FMTTYPE=image/jpeg:https://thethinkerlab.it/wp-content/uploads/2025/03/BioExplore3.jpg
END:VEVENT
BEGIN:VEVENT
DTSTART;TZID=Europe/Paris:20250412T150000
DTEND;TZID=Europe/Paris:20250412T163000
DTSTAMP:20260423T131641
CREATED:20250325T203224Z
LAST-MODIFIED:20250408T202416Z
UID:10000006-1744470000-1744475400@thethinkerlab.it
SUMMARY:Alla scoperta della rana!
DESCRIPTION:Alla Scoperta della Rana\n\n\n\nSei appassionato di animali? \n\n\n\nVuoi scoprire tutto sulle rane diventando un vero esperto? \n\n\n\nPreparati a indossare il camice da biologo e mettere le mani nello slime solo così scoprirai da quali organi è composta una rana\, come respirano gli anfibi\, quali sono le loro caratteristiche. \n\n\n\nUn evento perfetto per aspiranti esploratori e amanti della natura! ✨ \n\n\n\nNon perdere questa esperienza interattiva unica! \n\n\n\n\n\n\n\n  \n\n\n\nQuando: Sabato 12 aprile\, dalle 15.00 alle 16.30  \n\n\n\nDove: in via cairoli 5\, a Varese c/o il laboratorio creativo del Thinker Lab (parcheggio consigliato Lidl di via carcano\, gratuiti i primi 120 min) \n\n\n\nCosto: 20€\, da versare in loco (sconto 15% per fratelli/sorelle). \n\n\n\nEtà: 8 – 13 anni \n\n\n\nPrenota il tuo posto! I posti sono limitati\, è necessario prenotare tramite il form dedicato. \n\n\n\n\n\nTutti i nostri laboratori sono condotti da professionisti specializzati nei rispettivi ambiti\, pronti a trasformare la scienza in un’esperienza coinvolgente e interattiva. Grazie al loro approccio pratico e dinamico\, bambini e ragazzi potranno esplorare il mondo scientifico in modo divertente e stimolante! \n\n\n\nIl Laboratorio sarà tenuto dal biologo Samuele Battipaglia
URL:https://thethinkerlab.it/evento/alla-scoperta-della-rana/
LOCATION:The Thinker Lab\, Via Cairoli 5\, Varese\, Varese\, 21100\, Italy
CATEGORIES:7+ anni,Approfondimento,Biologia,Edutainment,Laboratorio Scientifico,Science (Scienza),STEAM
ATTACH;FMTTYPE=image/jpeg:https://thethinkerlab.it/wp-content/uploads/2025/03/BioExplore3.jpg
END:VEVENT
BEGIN:VEVENT
DTSTART;TZID=Europe/Paris:20250322T150000
DTEND;TZID=Europe/Paris:20250322T163000
DTSTAMP:20260423T131641
CREATED:20250313T234616Z
LAST-MODIFIED:20250408T202040Z
UID:10000004-1742655600-1742661000@thethinkerlab.it
SUMMARY:Missione Anfibi: alla scoperta della rana
DESCRIPTION:Missione Anfibi: Alla Scoperta della Rana!\nSei appassionato di animali?\n\nVuoi scoprire tutte sulle rane diventando un vero esperto?\n\nPreparati a indossare il camice del veterinario e mettere le mani nello slime solo così scoprirai da quali organi è composta una rana\, come respirano gli anfibi\, quali sono le loro caratteristiche.\n\nUn evento perfetto per piccoli esploratori e amanti della natura! ✨\n\n Quando: Sabato 22 marzo\, dalle 15.00 alle 16.30\n\n Dove: in via cairoli 5\, a Varese c/o il laboratorio creativo del Thinker Lab\n Costo: 20€\, da versare in loco. \n Prenota il tuo posto! I posti sono limitati\, è necessario prenotare tramite il form dedicato. \nNon perdere questa esperienza interattiva unica! \nTi aspettiamo per un viaggio nel fantastico mondo delle rane! \nI nostri eventi scientifici sono guidati da esperti! \nTutti i nostri laboratori sono condotti da professionisti specializzati nei rispettivi ambiti\, pronti a trasformare la scienza in un’esperienza coinvolgente e interattiva. Grazie al loro approccio pratico e dinamico\, bambini e ragazzi potranno esplorare il mondo scientifico in modo divertente e stimolante! \nIl Laboratorio sarà tenuto dal biologo Samuele Battipaglia
URL:https://thethinkerlab.it/evento/missione-anfibi-alla-scoperta-della-rana/
LOCATION:The Thinker Lab\, Via Cairoli 5\, Varese\, Varese\, 21100\, Italy
CATEGORIES:7+ anni,Approfondimento,Biologia,Edutainment,Laboratorio Scientifico
ATTACH;FMTTYPE=image/jpeg:https://thethinkerlab.it/wp-content/uploads/2025/03/BioExplore.jpg
END:VEVENT
END:VCALENDAR