BEGIN:VCALENDAR
VERSION:2.0
PRODID:-//The Thinker Lab - ECPv6.15.12.2//NONSGML v1.0//EN
CALSCALE:GREGORIAN
METHOD:PUBLISH
X-WR-CALNAME:The Thinker Lab
X-ORIGINAL-URL:https://thethinkerlab.it
X-WR-CALDESC:Eventi per The Thinker Lab
REFRESH-INTERVAL;VALUE=DURATION:PT1H
X-Robots-Tag:noindex
X-PUBLISHED-TTL:PT1H
BEGIN:VTIMEZONE
TZID:Europe/Paris
BEGIN:DAYLIGHT
TZOFFSETFROM:+0100
TZOFFSETTO:+0200
TZNAME:CEST
DTSTART:20240331T010000
END:DAYLIGHT
BEGIN:STANDARD
TZOFFSETFROM:+0200
TZOFFSETTO:+0100
TZNAME:CET
DTSTART:20241027T010000
END:STANDARD
BEGIN:DAYLIGHT
TZOFFSETFROM:+0100
TZOFFSETTO:+0200
TZNAME:CEST
DTSTART:20250330T010000
END:DAYLIGHT
BEGIN:STANDARD
TZOFFSETFROM:+0200
TZOFFSETTO:+0100
TZNAME:CET
DTSTART:20251026T010000
END:STANDARD
BEGIN:DAYLIGHT
TZOFFSETFROM:+0100
TZOFFSETTO:+0200
TZNAME:CEST
DTSTART:20260329T010000
END:DAYLIGHT
BEGIN:STANDARD
TZOFFSETFROM:+0200
TZOFFSETTO:+0100
TZNAME:CET
DTSTART:20261025T010000
END:STANDARD
BEGIN:DAYLIGHT
TZOFFSETFROM:+0100
TZOFFSETTO:+0200
TZNAME:CEST
DTSTART:20270328T010000
END:DAYLIGHT
BEGIN:STANDARD
TZOFFSETFROM:+0200
TZOFFSETTO:+0100
TZNAME:CET
DTSTART:20271031T010000
END:STANDARD
END:VTIMEZONE
BEGIN:VEVENT
DTSTART;TZID=Europe/Paris:20260411T103000
DTEND;TZID=Europe/Paris:20260411T120000
DTSTAMP:20260419T153419
CREATED:20260319T195952Z
LAST-MODIFIED:20260319T202928Z
UID:10000208-1775903400-1775908800@thethinkerlab.it
SUMMARY:Bricks LAB: la magia della matematica con i mattoncini LEGO®
DESCRIPTION:🧱 LEGO® Math Lab: la magia della matematica!\n\n\n\nMetti alla prova il tuo ingegno nel laboratorio dove la matematica prende forma… un mattoncino alla volta! Progettato per ragazzi dai 7 ai 12 anni\, questo workshop trasforma il gioco più famoso del mondo in una sfida di ingegneria e creatività. \n\n\n\nInsieme esploreremo lo spazio\, imparando a comporre e scomporre forme geometriche per dare vita a strutture solide e originali. Non servono formule astratte: useremo i colori e le dimensioni dei mattoncini per “toccare con mano” le frazioni e scopriremo come misurare le superfici semplicemente contando i mitici stud (i bottoncini LEGO). \n\n\n\nOgni partecipante diventerà il progettista della propria opera\, imparando a spiegare le proprie scelte costruttive e a trovare soluzioni brillanti ai piccoli problemi di incastro. In questo laboratorio\, la logica non si studia sui libri: si monta\, si smonta e si racconta! \n\n\n\nUn approccio innovativo che utilizza le discipline STEAM non solo come materie di studio\, ma come linguaggi per l’orientamento precoce e la scoperta di sé. Ogni laboratorio è un viaggio attraverso il fare\, dove l’errore è una risorsa e ogni bambino è protagonista. \n\n\n\n\n\n\nCONTROLLA DISPONIBILITA’ E PRENOTA\n\n\n\n\n\n\n\n\n\n\n\n\nIl Laboratorio sarà tenuto dall’esperto Francesco Frangioja Certified Facilitator of LEGO® SERIOUS PLAY® \n\n\n\nCosto: 16€\, da versare in loco. \n\n\n\nQuando: Sabato 11 aprile\, dalle 10.30 alle 12.00 \n\n\n\nDove: via Cairoli 5\, 21100 Varese \n\n\n\nEtà: 7 – 11 anni \n\n\n\nPrenota il tuo posto! I posti sono limitati\, è necessario prenotare tramite il form dedicato. \n\n\n\nTutti i nostri laboratori sono condotti da professionisti specializzati nei rispettivi ambiti\, pronti a trasformare la scienza in un’esperienza coinvolgente e interattiva. Grazie al loro approccio pratico e dinamico\, bambini e ragazzi potranno esplorare il mondo scientifico in modo divertente e stimolante! \n\n\n\nIl Laboratorio sarà tenuto dall’esperto  Francesco Frangioja Certified Facilitator of LEGO® SERIOUS PLAY®
URL:https://thethinkerlab.it/evento/bricks-lab-la-magia-della-matematica-con-i-mattoncini-lego/
LOCATION:The Thinker Lab\, Via Cairoli 5\, Varese\, Varese\, 21100\, Italy
CATEGORIES:7 - 11 anni,ATTIVITA' OUTDOOR,Corso introduttivo,LEGO,Matematica Creativa,Mathematics (Matematica)
ATTACH;FMTTYPE=image/png:https://thethinkerlab.it/wp-content/uploads/2026/03/CopertinaEventiTTLBricksLAB.png
END:VEVENT
BEGIN:VEVENT
DTSTART;TZID=Europe/Paris:20260224T163000
DTEND;TZID=Europe/Paris:20260224T180000
DTSTAMP:20260419T153419
CREATED:20260203T075546Z
LAST-MODIFIED:20260203T080553Z
UID:10000197-1771950600-1771956000@thethinkerlab.it
SUMMARY:MathLAB: Geometria 2d con origami
DESCRIPTION:📐 Piega e Spiega\n\n\n\nQuando la geometria prende forma tra le mani \n\n\n\nUn laboratorio dove la matematica si piega\, si apre e si racconta.Attraverso l’origami\, i bambini scoprono i poligoni 2D non come figure astratte\, ma come forme vive che nascono da un semplice foglio. \n\n\n\nPiegando\, aprendo e osservando\, trasformano la carta in triangoli\, quadrati\, rettangoli\, pentagoni ed esagoni\, imparando a riconoscerne lati\, angoli e simmetrie. Ogni piega diventa una spiegazione: cosa succede quando un lato incontra un altro? Quanti angoli si formano? Le forme sono tutte uguali o cambiano? \n\n\n\nL’attività unisce manualità e pensiero logico\, stimolando concentrazione\, precisione e capacità di seguire sequenze. Il gesto del piegare aiuta a comprendere concetti matematici complessi in modo intuitivo e giocoso\, mentre il colore e la creatività rendono ogni poligono unico. \n\n\n\nUn’esperienza STEAM dove l’arte dell’origami incontra la geometria\, e la matematica si impara… piega dopo piega. \n\n\n\n\n\n\nCONTROLLA DISPONIBILITA’ E PRENOTA\n\n\n\n\n\n\n\n\n\n\n\n\nCosto: 17€\, da versare in loco. \n\n\n\nQuando: Martedì 24 febbraio\, dalle 16.30 alle 18.00 \n\n\n\nDove: in via cairoli 5\, a Varese c/o il laboratorio creativo del Thinker Lab (parcheggio consigliato Lidl di via carcano\, gratuiti i primi 120 min). \n\n\n\nEtà: 7 – 12 anni \n\n\n\nPrenota il tuo posto! I posti sono limitati\, è necessario prenotare tramite il form dedicato. \n\n\n\nTutti i nostri laboratori sono condotti da professionisti specializzati nei rispettivi ambiti\, pronti a trasformare la scienza in un’esperienza coinvolgente e interattiva. Grazie al loro approccio pratico e dinamico\, bambini e ragazzi potranno esplorare il mondo scientifico in modo divertente e stimolante! Il Laboratorio sarà tenuto dall’esperto Samanta.
URL:https://thethinkerlab.it/evento/mathlab-geometria-2d-con-origami/
LOCATION:The Thinker Lab\, Via Cairoli 5\, Varese\, Varese\, 21100\, Italy
CATEGORIES:7 - 12 anni,Corso introduttivo,Livello,Matematica Creativa,Mathematics (Matematica),STEAM
ATTACH;FMTTYPE=image/png:https://thethinkerlab.it/wp-content/uploads/2026/02/CopertinaEventiTTLMathLAB_geometria.png
END:VEVENT
BEGIN:VEVENT
DTSTART;TZID=Europe/Paris:20260210T163000
DTEND;TZID=Europe/Paris:20260210T180000
DTSTAMP:20260419T153419
CREATED:20260130T225812Z
LAST-MODIFIED:20260130T231134Z
UID:10000189-1770741000-1770746400@thethinkerlab.it
SUMMARY:Math LAB: la magia del TANGRAM
DESCRIPTION:🧩 Matematica Creativa – La magia del Tangram\n\n\n\nChi l’ha detto che la matematica è fatta solo di calcoli e regole astratte?Al ThinkerLab di Varese la matematica si esplora con le mani\, si costruisce\, si trasforma… e si gioca. \n\n\n\nCon questo laboratorio inauguriamo un ciclo di 5 incontri di Matematica Creativa dedicati ai bambini dai 7 ai 12 anni\, pensati come appuntamenti indipendenti per scoprire il lato più affascinante della logica. \n\n\n\nIl primo incontro è dedicato al Tangram\, l’antico rompicapo cinese che trasforma la geometria in una vera sfida creativa.Guidati da Samanta\, docente appassionata ed esperta\, ragazzi saranno protagonisti attivi: sperimenteranno\, costruiranno e ragioneranno attraverso il gioco. \n\n\n\nL’attività è strutturata per adattarsi alle competenze di ciascun partecipante:chi è alle prime armi lavorerà sul riconoscimento delle figure geometriche\, sulla composizione delle forme e sulla percezione visuo-spaziale; chi ha già più esperienza approfondirà concetti come equiestensione\, scomposizione dei poligoni e proprietà degli angoli. \n\n\n\nUn laboratorio che unisce gioco\, logica e creatività\, trasformando il pomeriggio in una vera avventura matematica. \n\n\n\n\n\n\nCONTROLLA DISPONIBILITA’ E PRENOTA\n\n\n\n\n\n\n\n\n\n\n\n\nCosto: 17€\, da versare in loco. \n\n\n\nQuando: Martedì 10 febbraio\, dalle 16.30 alle 18.00 \n\n\n\nDove: in via cairoli 5\, a Varese c/o il laboratorio creativo del Thinker Lab (parcheggio consigliato Lidl di via carcano\, gratuiti i primi 120 min). \n\n\n\nEtà: 7 – 12 anni \n\n\n\nPrenota il tuo posto! I posti sono limitati\, è necessario prenotare tramite il form dedicato. \n\n\n\nTutti i nostri laboratori sono condotti da professionisti specializzati nei rispettivi ambiti\, pronti a trasformare la scienza in un’esperienza coinvolgente e interattiva. Grazie al loro approccio pratico e dinamico\, bambini e ragazzi potranno esplorare il mondo scientifico in modo divertente e stimolante! Il Laboratorio sarà tenuto dall’esperto Samanta.
URL:https://thethinkerlab.it/evento/math-lab-la-magia-del-tangram-2/
LOCATION:The Thinker Lab\, Via Cairoli 5\, Varese\, Varese\, 21100\, Italy
CATEGORIES:7 - 12 anni,Corso introduttivo,Livello,Matematica Creativa,Mathematics (Matematica),STEAM
ATTACH;FMTTYPE=image/jpeg:https://thethinkerlab.it/wp-content/uploads/2026/01/CopertinaEventiTTLMathLAB1.jpg
END:VEVENT
BEGIN:VEVENT
DTSTART;TZID=Europe/Paris:20260126T143000
DTEND;TZID=Europe/Paris:20260126T160000
DTSTAMP:20260419T153419
CREATED:20260117T102801Z
LAST-MODIFIED:20260119T092839Z
UID:10000188-1769437800-1769443200@thethinkerlab.it
SUMMARY:Math LAB: la magia del TANGRAM
DESCRIPTION:🧩 Matematica Creativa – La magia del Tangram\n\n\n\nChi l’ha detto che la matematica è fatta solo di calcoli e regole astratte?Al ThinkerLab di Varese la matematica si esplora con le mani\, si costruisce\, si trasforma… e si gioca. \n\n\n\nCon questo laboratorio inauguriamo un ciclo di 5 incontri di Matematica Creativa dedicati ai bambini dai 7 ai 12 anni\, pensati come appuntamenti indipendenti per scoprire il lato più affascinante della logica. \n\n\n\nIl primo incontro è dedicato al Tangram\, l’antico rompicapo cinese che trasforma la geometria in una vera sfida creativa.Guidati da Samanta\, docente appassionata ed esperta\, ragazzi saranno protagonisti attivi: sperimenteranno\, costruiranno e ragioneranno attraverso il gioco. \n\n\n\nL’attività è strutturata per adattarsi alle competenze di ciascun partecipante:chi è alle prime armi lavorerà sul riconoscimento delle figure geometriche\, sulla composizione delle forme e sulla percezione visuo-spaziale; chi ha già più esperienza approfondirà concetti come equiestensione\, scomposizione dei poligoni e proprietà degli angoli. \n\n\n\nUn laboratorio che unisce gioco\, logica e creatività\, trasformando il pomeriggio in una vera avventura matematica. \n\n\n\n\n\n\nCONTROLLA DISPONIBILITA’ E PRENOTA\n\n\n\n\n\n\n\n\n\n\n\n\nCosto: 17€\, da versare in loco. \n\n\n\nQuando: Lunedì 26 gennaio\, dalle 14.30 alle 16.00 \n\n\n\nDove: in via cairoli 5\, a Varese c/o il laboratorio creativo del Thinker Lab (parcheggio consigliato Lidl di via carcano\, gratuiti i primi 120 min). \n\n\n\nEtà: 7 – 12 anni \n\n\n\nPrenota il tuo posto! I posti sono limitati\, è necessario prenotare tramite il form dedicato. \n\n\n\nTutti i nostri laboratori sono condotti da professionisti specializzati nei rispettivi ambiti\, pronti a trasformare la scienza in un’esperienza coinvolgente e interattiva. Grazie al loro approccio pratico e dinamico\, bambini e ragazzi potranno esplorare il mondo scientifico in modo divertente e stimolante! Il Laboratorio sarà tenuto dall’esperto Samanta.
URL:https://thethinkerlab.it/evento/math-lab-la-magia-del-tangram/
LOCATION:The Thinker Lab\, Via Cairoli 5\, Varese\, Varese\, 21100\, Italy
CATEGORIES:7 - 12 anni,Corso introduttivo,Livello,Matematica Creativa,Mathematics (Matematica),STEAM
ATTACH;FMTTYPE=image/jpeg:https://thethinkerlab.it/wp-content/uploads/2026/01/CopertinaEventiTTLMathLAB1.jpg
END:VEVENT
BEGIN:VEVENT
DTSTART;TZID=Europe/Paris:20251115T150000
DTEND;TZID=Europe/Paris:20251115T170000
DTSTAMP:20260419T153419
CREATED:20251108T102951Z
LAST-MODIFIED:20251112T210024Z
UID:10000140-1763218800-1763226000@thethinkerlab.it
SUMMARY:Coding con Scratch: crea e inventa!
DESCRIPTION:Coding con Scratch\n\n\n\n \n\n\n\nUn laboratorio pensato per muovere i primi passi nel mondo della programmazione in modo creativo e divertente. Con Scratch\, i bambini imparano a costruire storie interattive\, animazioni e piccoli videogiochi\, sviluppando logica\, pensiero computazionale e fantasia… un blocco alla volta!. \n\n\n\n \n\n\n\n\n\n\n\n\n\n  \n\n\n\nCosto: 13€\, da versare in loco. \n\n\n\nQuando: Sabato 15 novembre\, dalle 15.00 alle 16.30 \n\n\n\nDove: in via cairoli 5\, a Varese c/o il laboratorio creativo del Thinker Lab (parcheggio consigliato Lidl di via carcano\, gratuiti i primi 120 min). \n\n\n\nEtà: 8 – 11 anni \n\n\n\nPrenota il tuo posto! I posti sono limitati\, è necessario prenotare tramite il form dedicato. \n\n\n\nTutti i nostri laboratori sono condotti da professionisti specializzati nei rispettivi ambiti\, pronti a trasformare la scienza in un’esperienza coinvolgente e interattiva. Grazie al loro approccio pratico e dinamico\, bambini e ragazzi potranno esplorare il mondo scientifico in modo divertente e stimolante! Il Laboratorio sarà tenuto dall’esperta Angela. \n\n\n\n\n\nIl Laboratorio sarà tenuto dalla botanica Ania
URL:https://thethinkerlab.it/evento/coding-con-scratch-crea-e-inventa/
LOCATION:The Thinker Lab\, Via Cairoli 5\, Varese\, Varese\, 21100\, Italy
CATEGORIES:8 - 12 anni,Arte e Cultura,Corso introduttivo,Edutainment,Mathematics (Matematica),STEAM,Technology (Tecnologia)
ATTACH;FMTTYPE=image/jpeg:https://thethinkerlab.it/wp-content/uploads/2025/11/CodingLab.jpg
END:VEVENT
END:VCALENDAR