BEGIN:VCALENDAR
VERSION:2.0
PRODID:-//The Thinker Lab - ECPv6.15.12.2//NONSGML v1.0//EN
CALSCALE:GREGORIAN
METHOD:PUBLISH
X-WR-CALNAME:The Thinker Lab
X-ORIGINAL-URL:https://thethinkerlab.it
X-WR-CALDESC:Eventi per The Thinker Lab
REFRESH-INTERVAL;VALUE=DURATION:PT1H
X-Robots-Tag:noindex
X-PUBLISHED-TTL:PT1H
BEGIN:VTIMEZONE
TZID:Europe/Paris
BEGIN:DAYLIGHT
TZOFFSETFROM:+0100
TZOFFSETTO:+0200
TZNAME:CEST
DTSTART:20240331T010000
END:DAYLIGHT
BEGIN:STANDARD
TZOFFSETFROM:+0200
TZOFFSETTO:+0100
TZNAME:CET
DTSTART:20241027T010000
END:STANDARD
BEGIN:DAYLIGHT
TZOFFSETFROM:+0100
TZOFFSETTO:+0200
TZNAME:CEST
DTSTART:20250330T010000
END:DAYLIGHT
BEGIN:STANDARD
TZOFFSETFROM:+0200
TZOFFSETTO:+0100
TZNAME:CET
DTSTART:20251026T010000
END:STANDARD
BEGIN:DAYLIGHT
TZOFFSETFROM:+0100
TZOFFSETTO:+0200
TZNAME:CEST
DTSTART:20260329T010000
END:DAYLIGHT
BEGIN:STANDARD
TZOFFSETFROM:+0200
TZOFFSETTO:+0100
TZNAME:CET
DTSTART:20261025T010000
END:STANDARD
END:VTIMEZONE
BEGIN:VEVENT
DTSTART;TZID=Europe/Paris:20251115T150000
DTEND;TZID=Europe/Paris:20251115T170000
DTSTAMP:20260419T185040
CREATED:20251108T102951Z
LAST-MODIFIED:20251112T210024Z
UID:10000140-1763218800-1763226000@thethinkerlab.it
SUMMARY:Coding con Scratch: crea e inventa!
DESCRIPTION:Coding con Scratch\n\n\n\n \n\n\n\nUn laboratorio pensato per muovere i primi passi nel mondo della programmazione in modo creativo e divertente. Con Scratch\, i bambini imparano a costruire storie interattive\, animazioni e piccoli videogiochi\, sviluppando logica\, pensiero computazionale e fantasia… un blocco alla volta!. \n\n\n\n \n\n\n\n\n\n\n\n\n\n  \n\n\n\nCosto: 13€\, da versare in loco. \n\n\n\nQuando: Sabato 15 novembre\, dalle 15.00 alle 16.30 \n\n\n\nDove: in via cairoli 5\, a Varese c/o il laboratorio creativo del Thinker Lab (parcheggio consigliato Lidl di via carcano\, gratuiti i primi 120 min). \n\n\n\nEtà: 8 – 11 anni \n\n\n\nPrenota il tuo posto! I posti sono limitati\, è necessario prenotare tramite il form dedicato. \n\n\n\nTutti i nostri laboratori sono condotti da professionisti specializzati nei rispettivi ambiti\, pronti a trasformare la scienza in un’esperienza coinvolgente e interattiva. Grazie al loro approccio pratico e dinamico\, bambini e ragazzi potranno esplorare il mondo scientifico in modo divertente e stimolante! Il Laboratorio sarà tenuto dall’esperta Angela. \n\n\n\n\n\nIl Laboratorio sarà tenuto dalla botanica Ania
URL:https://thethinkerlab.it/evento/coding-con-scratch-crea-e-inventa/
LOCATION:The Thinker Lab\, Via Cairoli 5\, Varese\, Varese\, 21100\, Italy
CATEGORIES:8 - 12 anni,Arte e Cultura,Corso introduttivo,Edutainment,Mathematics (Matematica),STEAM,Technology (Tecnologia)
ATTACH;FMTTYPE=image/jpeg:https://thethinkerlab.it/wp-content/uploads/2025/11/CodingLab.jpg
END:VEVENT
BEGIN:VEVENT
DTSTART;TZID=Europe/Paris:20251115T170000
DTEND;TZID=Europe/Paris:20251115T183000
DTSTAMP:20260419T185040
CREATED:20250914T202200Z
LAST-MODIFIED:20250918T090907Z
UID:10000114-1763226000-1763231400@thethinkerlab.it
SUMMARY:Beyblade X
DESCRIPTION:Gli eventi Beyblade si svolgono in collaborazione con Crazy Comics& Games e RoosterX \n\n\n\nAllenati e sfida i tuoi amici con i BeyBladeX. \n\n\n\nGli eventi sono gratuiti ma è OBBLIGATORIO prenotarsi tramite questo link: \n\n\n\n\nPRENOTA IL TUO POSTO\n\n\n\n\n \n\n\n\nTutti gli eventi si terranno c/o Thinker Lab  e Crazy Bricks And Games\, in via Cairoli 5\, Varese. \n\n\n\n\n\nQuando: sabati programmati\, dalle 17.00 alle 18.30 (sabato 20 settembre\, dalle 15.00 alle 17.30) \n\n\n\nDove: in via cairoli 5\, a Varese c/o Crazy Bricks And Games \n\n\n\nEtà: 7+ anni \n\n\n\nPer Informazioni: 391. 172. 2721 \n\n\n\n\n\n\n\n\n\n\n\n\n\n\n\n 
URL:https://thethinkerlab.it/evento/beyblade-x/2025-11-15/
LOCATION:Varese
CATEGORIES:7+ anni,Fisica,Gratuito,Rotazione e Trottole,Science (Scienza),STEAM,Technology (Tecnologia)
ATTACH;FMTTYPE=image/jpeg:https://thethinkerlab.it/wp-content/uploads/2025/06/SummerLAB_TrottoleLAB_2.jpg
ORGANIZER;CN="Crazy Comics And Games":MAILTO:clienti@crazycomicsandgames.it
END:VEVENT
BEGIN:VEVENT
DTSTART;TZID=Europe/Paris:20251116T163000
DTEND;TZID=Europe/Paris:20251116T180000
DTSTAMP:20260419T185040
CREATED:20251108T101453Z
LAST-MODIFIED:20251110T111919Z
UID:10000138-1763310600-1763316000@thethinkerlab.it
SUMMARY:Bolle magiche: la scienza del sapone
DESCRIPTION:La scienza delle bolle di sapone\n\n\n\n \n\n\n\nGiochiamo con le bolle e scopriamo la loro magia scientifica!Con l’aiuto dell’esperta Angela\, i bambini esploreranno come nascono le bolle\, perché sono così perfette e cosa le rende colorate e leggere.Tra esperimenti\, colori e glitter\, ciascuno creerà la propria boccetta di bolle personalizzata. \n\n\n\n \n\n\n\n \n\n\n\n\n\n\n\n\n\n  \n\n\n\nCosto: 13€\, da versare in loco. \n\n\n\nQuando: Domenica 16 novembre\, dalle 16.30 alle 18.00 \n\n\n\nDove: in via cairoli 5\, a Varese c/o il laboratorio creativo del Thinker Lab (parcheggio consigliato Lidl di via carcano\, gratuiti i primi 120 min). \n\n\n\nEtà: 6 – 11 anni \n\n\n\nPrenota il tuo posto! I posti sono limitati\, è necessario prenotare tramite il form dedicato. \n\n\n\nTutti i nostri laboratori sono condotti da professionisti specializzati nei rispettivi ambiti\, pronti a trasformare la scienza in un’esperienza coinvolgente e interattiva. Grazie al loro approccio pratico e dinamico\, bambini e ragazzi potranno esplorare il mondo scientifico in modo divertente e stimolante! Il Laboratorio sarà tenuto dall’esperta Angela. \n\n\n\n\n\nIl Laboratorio sarà tenuto dalla botanica Ania
URL:https://thethinkerlab.it/evento/bolle-magiche-la-scienza-del-sapone/
LOCATION:The Thinker Lab\, Via Cairoli 5\, Varese\, Varese\, 21100\, Italy
CATEGORIES:6 - 11 anni,Chimica,Corso introduttivo,Edutainment,Laboratorio Scientifico,Science (Scienza),STEAM
ATTACH;FMTTYPE=image/jpeg:https://thethinkerlab.it/wp-content/uploads/2025/11/LabBolleSapone.jpg
END:VEVENT
END:VCALENDAR